BEGIN:VCALENDAR
VERSION:2.0
PRODID:-//https://fotoclub-mainz.de///NONSGML kigkonsult.se iCalcreator 2.10.15//
METHOD:PUBLISH
BEGIN:VEVENT
UID:20260419T173746CEST-9389TduJF2@https://fotoclub-mainz.de/
DTSTAMP:20260419T153746Z
DESCRIPTION:Informationen zum Jahresthema Rhein!Romantik? (Arndt) || kurze 
 AV-Show 'Rheinsteig' (Jochen)  || 'Mitglieder stellen sich vor': Michael K
 rämer (Bilder + Videoshow) https://fotoclub-mainz.de/index.php/component/r
 seventspro/event/109-clubabend?Itemid=101
DTSTART:20260420T193000Z
DTEND:20260420T210000Z
LOCATION:AWO Seniorenzentrum am Rosengarten\, 4. OG (Göttelmannstraße 45\, 
 55131\, Mainz\, Rheinland-Pfalz)
SUMMARY:Clubabend
URL:https://fotoclub-mainz.de/index.php/component/rseventspro/event/109-clu
 babend?Itemid=101
END:VEVENT
END:VCALENDAR
