BEGIN:VCALENDAR
VERSION:2.0
PRODID:-//https://fotoclub-mainz.de///NONSGML kigkonsult.se iCalcreator 2.10.15//
METHOD:PUBLISH
BEGIN:VEVENT
UID:20260419T173925CEST-9592cIxXu6@https://fotoclub-mainz.de/
DTSTAMP:20260419T153925Z
DESCRIPTION:Der Clubabend im AWO entfällt. Weitere Informationen folgen. ht
 tps://fotoclub-mainz.de/index.php/component/rseventspro/event/120-midjahre
 sessen?Itemid=101
DTSTART:20260713T193000Z
DTEND:20260713T210000Z
LOCATION:wird noch mitgeteilt ()
SUMMARY:Midjahresessen
URL:https://fotoclub-mainz.de/index.php/component/rseventspro/event/120-mid
 jahresessen?Itemid=101
END:VEVENT
END:VCALENDAR
