BEGIN:VCALENDAR
VERSION:2.0
PRODID:-//https://fotoclub-mainz.de///NONSGML kigkonsult.se iCalcreator 2.10.15//
METHOD:PUBLISH
BEGIN:VEVENT
UID:20260419T173644CEST-2132BZenCT@https://fotoclub-mainz.de/
DTSTAMP:20260419T153644Z
DESCRIPTION: https://fotoclub-mainz.de/index.php/component/rseventspro/even
 t/121-clubabend?Itemid=101
DTSTART:20260727T193000Z
DTEND:20260727T210000Z
LOCATION:AWO Seniorenzentrum am Rosengarten\, 4. OG (Göttelmannstraße 45\, 
 55131\, Mainz\, Rheinland-Pfalz)
SUMMARY:Clubabend
URL:https://fotoclub-mainz.de/index.php/component/rseventspro/event/121-clu
 babend?Itemid=101
END:VEVENT
END:VCALENDAR
