BEGIN:VCALENDAR
VERSION:2.0
PRODID:-//https://fotoclub-mainz.de///NONSGML kigkonsult.se iCalcreator 2.10.15//
METHOD:PUBLISH
BEGIN:VEVENT
UID:20260421T103231CEST-31043b3rAO@https://fotoclub-mainz.de/
DTSTAMP:20260421T083231Z
DESCRIPTION: https://fotoclub-mainz.de/index.php/verein/terminkalender/even
 t/125-clubabend
DTSTART:20260921T193000Z
DTEND:20260921T210000Z
LOCATION:AWO Seniorenzentrum am Rosengarten\, 4. OG (Göttelmannstraße 45\, 
 55131\, Mainz\, Rheinland-Pfalz)
SUMMARY:Clubabend
URL:https://fotoclub-mainz.de/index.php/verein/terminkalender/event/125-clu
 babend
END:VEVENT
END:VCALENDAR
